Workbook
Name ADT_CL: Data!$D$19:$D$22
Name ADT_MT: Data!$D$62:$D$65
Name CLB: Data!$D$30:$D$33
Name CPS: Data!$D$34:$D$37
Name CW_CL: Data!$D$26:$D$29
Name DICL: Data!$D$41:$D$43
Name DICP: Data!$D$116:$D$119
Name DS: Data!$D$52:$D$54
Name GDI: Data!$D$227:$D$230
Name GDM: Data!$D$44:$D$47
Name GDR: Data!$D$94:$D$96
Name ITS: Data!$D$38:$D$40
Name JT: Data!$D$97:$D$100
Name KR: Data!$D$221:$D$224
Name LCI: Data!$D$92:$D$93
Name LTC: Data!$D$218:$D$220
Name PL: Data!$D$190:$D$193
Name PP: Data!$D$158:$D$161
Name PW: Data!$D$101:$D$104
Name QS: Data!$D$181:$D$184
Name SegmentTypes: Data!$A$3:$A$9
Name SIG: Data!$D$185:$D$187
Name SPW: Data!$D$135:$D$138
Name SS: Data!$D$55:$D$58
Name StreetWidth_CL: Data!$D$23:$D$25
Name StreetWidth_MT: Data!$D$66:$D$68
Name TS_CL: Data!$D$15:$D$18
Name TS_MT: Data!$D$59:$D$61
Name TSC: Data!$D$214:$D$217
Name TSCR: Data!$D$88:$D$91
Name TSSI: Data!$D$173:$D$176
Name TSUI: Data!$D$84:$D$87
Name US: Data!$D$48:$D$51

Sheet References
B1: References
B3: The assessment criteria and standards specified by the QoS tool were developed with reference to local and international literature on cycle facility design. The tool aims to identify the most critical criteria that impact on user experience and use current international best practice standards for facility design.
B5: In specifying standards, international practice has in some cases been adapted for local Auckland conditions. For example, standards for facility gradient are more lenient than international guidance to account for Auckland’s extensive hills.
B7: Identification of assessment criteria and specification of standards has drawn particularly on the following cycle facility guidance:
A9: 1 | B9: CROW (2007) Design Manual for Bicycle Traffic, The Netherlands: CROW
A10: 2 | B10: Furth, P. (2012) ‘Bicycle Infrastructure for Mass Cycling’ in Pucher, J. and Buehler, R. (eds.) City Cycling, Cambridge, MA: MIT Press.
A11: 3 | B11: Mekuria, Maaza, C., Furth, Peter G. and Nixon, Hilary (2012) Low-stress Bicycling and Network Connectivity, San Jose, CA: Mineta Transportation Institute.
A12: 4 | B12: National Association of City Transportation Officials (NACTO) (2016), Transit Street Design Guide.
A13: 5 | B13: New Zealand Transport Agency (NZTA) (2016) Cycling Network Guidance, available online at: https://www.nzta.govt.nz/walking-cycling-and-public-transport/cycling/cycling-network-guidance/
A14: 6 | B14: San Francisco Department of Public Health, Program on Health, Equity and Sustainability (2009), Bicycle Environmental Quality Index (BEQI), Draft Report. San Francisco, CA: San Francisco Department of Public Health.
A15: 7 | B15: State of Queensland Department of Transport and Main Roads (2015) Selection and Design of Cycle Tracks, Technical Note 128, Brisbane, Australia: State of Queensland Department of Transport and Main Roads.
A16: 8 | B16: Sustrans (2014) Sustrans Design Manual: Handbook for cycle-friendly design, Bristol, UK: Sustrans.
A17: 9 | B17: Transport for London (2014) London Cycling Design Standards, consultation draft, London, UK: Transport for London.
B19: Effort has been made to ensure that the assessment criteria and standards specified in this document are consistent with current international best practice. Nevertheless, cycle facility design is currently a rapidly evolving field and ongoing changes to accepted best practice are likely during the near future.
B21: Practitioners involved with planning and designing cycling facilities should make use of a wide range of design guidance, and not rely exclusively on this guide, to ensure development of high quality facilities.

Sheet Instructions
A1: Auckland Cycle Facility Quality of Service Evaluation Tool: Scoring Instructions
A3: Step 1 | B3: Segment the design by infrastructure type, label each segment (i.e Segment 1, Segment 2..)
B5: Infrastructure Type | C5: Examples/Explanations of Infrastructure Type
B6: Separated Cycle Path | C6: Includes bidirectional, and unidirectional with cycleways. Can include planted, concrete, or raised dividers/buffers or flexibollards.
B7: Shared Path | C7: Includes any facility that caters to both pedestrians and cyclists
B8: Cycle Lane | C8: Includes at grade marked buffered cycle lanes
B9: Mixed Traffic | C9: Includes on street greenways, slow neighbourhood streets
B10: Signalised Intersection | C10: Any intersection with a signal, X or otherwise
B11: Unsignalised Intersection | C11: T, Y, and X unsignalised
B12: Roundabout | C12: Any roundabout
A14: Step 2 | B14: Compile relevant data
B16: Design Principle | C16: Assessment criteria for mid-block segments of cycle facilities | D16: Assessment critereia for intersection segments of cycle facilities
B17: Safe - Infrastructure Type Suitable for Street Conditions | C17: Traffic Speed | D17: Traffic Speed
C18: Traffic Volume | D18: Traffic Volume
C19: Number of Street Traffic Lanes | D19: Number of Street Traffic Lanes
B20: Safe - Appropriate Facility Dimensions | C20: Cycle Lane/Path Width | D20: Street Kerb Radii
D21: Cycle Queue Space
B22: Safe - Potential Conflicts Minimised | C22: Facility Blockage | D22: Signals
C23: Interaction with On-Street Car Parking | D23: Lane Continuity across Intersection
C24: Interaction with Public Transport Stops | D24: Pocket Lane Design
C25: Treatment at Driveway Intersections
B26: Direct | C26: Geometric Directness | D26: Geometric Directness
C27: Presense of Pedestrians on Shared Paths | D27: Intersection wait time
B28: Comfortable | C28: Gradient
C29: Social Safety
A31: Step 3 | B31: Score each Segment
C33: 1. Proceed to the Inputs Segment 1 sheet below. In the sheet, select the infrastructure type for relevant segment, proceed to select appropriate standard for each criteria. Greyed out criteria are not relevant for that infrastructure type. Document actual values in the far right column and choose the closest value in the Standards drop down list.The score will automatically populate. Continue this step for each segment, using a separate sheet for each segment.
C34: 2. The values will populate in the Summary of Scores tab to compare segments.
A36: References to all assessment criteria and standards can be found in the 'References' tab

Sheet  Summary of Scores Dashboard
B1: Summary of Scores
C2: Segment 1 | D2: Segment 2 | E2: Segment 3 | F2: Segment 4 | G2: Segment 5 | H2: Segment 6 | I2: Segment 7 | J2: Segment 8 | K2: Segment 9 | L2: Segment 10
A3: Location | C3: ='Inputs Segment 1'!C2 -> 0 | D3: ='Inputs Segment 2'!C2 -> 0 | E3: ='Inputs Segment 3'!C2 -> 0 | F3: ='Inputs Segment 4'!C2 -> 0 | G3: ='Inputs Segment 5'!C2 -> 0 | H3: ='Inputs Segment 6'!C2 -> 0 | I3: ='Inputs Segment 7'!C2 -> 0 | J3: ='Inputs Segment 8'!C2 -> 0 | K3: ='Inputs Segment 9'!C2 -> 0 | L3: ='Inputs Segment 10'!C2 -> 0
A4: Infrastructure type | C4: ='Inputs Segment 1'!C10 -> 0 | D4: ='Inputs Segment 2'!C10 -> 0 | E4: ='Inputs Segment 3'!C10 -> 0 | F4: ='Inputs Segment 4'!C10 -> 0 | G4: ='Inputs Segment 5'!C10 -> 0 | H4: ='Inputs Segment 6'!C10 -> 0 | I4: ='Inputs Segment 7'!C10 -> 0 | J4: ='Inputs Segment 8'!C10 -> 0 | K4: ='Inputs Segment 9'!C10 -> 0 | L4: ='Inputs Segment 10'!C10 -> 0
A5: Safe - Infrastructure Type Suitable for Street Conditions | C5: ='Inputs Segment 1'!C4 -> 0 | D5: ='Inputs Segment 2'!C4 -> 0 | E5: ='Inputs Segment 3'!C4 -> 0 | F5: ='Inputs Segment 4'!C4 -> 0 | G5: ='Inputs Segment 5'!C4 -> 0 | H5: ='Inputs Segment 6'!C4 -> 0 | I5: ='Inputs Segment 7'!C4 -> 0 | J5: ='Inputs Segment 8'!C4 -> 0 | K5: ='Inputs Segment 9'!C4 -> 0 | L5: ='Inputs Segment 10'!C4 -> 0
A6: Safe - Appropriate Facility Dimensions | C6: ='Inputs Segment 1'!C5 -> 0 | D6: ='Inputs Segment 2'!C5 -> 0 | E6: ='Inputs Segment 3'!C5 -> 0 | F6: ='Inputs Segment 4'!C5 -> 0 | G6: ='Inputs Segment 5'!C5 -> 0 | H6: ='Inputs Segment 6'!C5 -> 0 | I6: ='Inputs Segment 7'!C5 -> 0 | J6: ='Inputs Segment 8'!C5 -> 0 | K6: ='Inputs Segment 9'!C5 -> 0 | L6: ='Inputs Segment 10'!C5 -> 0
A7: Safe - Potential Conflicts Minimised | C7: ='Inputs Segment 1'!C6 -> 0 | D7: ='Inputs Segment 2'!C6 -> 0 | E7: ='Inputs Segment 3'!C6 -> 0 | F7: ='Inputs Segment 4'!C6 -> 0 | G7: ='Inputs Segment 5'!C6 -> 0 | H7: ='Inputs Segment 6'!C6 -> 0 | I7: ='Inputs Segment 7'!C6 -> 0 | J7: ='Inputs Segment 8'!C6 -> 0 | K7: ='Inputs Segment 9'!C6 -> 0 | L7: ='Inputs Segment 10'!C6 -> 0
A8: Direct | C8: ='Inputs Segment 1'!C7 -> 0 | D8: ='Inputs Segment 2'!C7 -> 0 | E8: ='Inputs Segment 3'!C7 -> 0 | F8: ='Inputs Segment 4'!C7 -> 0 | G8: ='Inputs Segment 5'!C7 -> 0 | H8: ='Inputs Segment 6'!C7 -> 0 | I8: ='Inputs Segment 7'!C7 -> 0 | J8: ='Inputs Segment 8'!C7 -> 0 | K8: ='Inputs Segment 9'!C7 -> 0 | L8: ='Inputs Segment 10'!C7 -> 0
A9: Comfortable | C9: ='Inputs Segment 1'!C8 -> 0 | D9: ='Inputs Segment 2'!C8 -> 0 | E9: ='Inputs Segment 3'!C8 -> 0 | F9: ='Inputs Segment 4'!C8 -> 0 | G9: ='Inputs Segment 5'!C8 -> 0 | H9: ='Inputs Segment 6'!C8 -> 0 | I9: ='Inputs Segment 7'!C8 -> 0 | J9: ='Inputs Segment 8'!C8 -> 0 | K9: ='Inputs Segment 9'!C8 -> 0 | L9: ='Inputs Segment 10'!C8 -> 0
B11: Score by Criteria: | C11: =C2 -> Segment 1 | D11: =D2 -> Segment 2 | E11: =E2 -> Segment 3 | F11: =F2 -> Segment 4 | G11: =G2 -> Segment 5 | H11: =H2 -> Segment 6 | I11: =I2 -> Segment 7 | J11: =J2 -> Segment 8 | ... L11: =L2 -> Segment 10
A12: Safe- Infrastructure | B12: Traffic volume (AADT) | C12: ='Inputs Segment 1'!E13 -> #N/A | D12: ='Inputs Segment 2'!E13 -> #N/A | E12: ='Inputs Segment 3'!E13 -> #N/A | F12: ='Inputs Segment 4'!E13 -> #N/A | G12: ='Inputs Segment 5'!E13 -> #N/A | H12: ='Inputs Segment 6'!E13 -> #N/A | I12: ='Inputs Segment 7'!E13 -> #N/A | J12: ='Inputs Segment 8'!E13 -> #N/A | K12: ='Inputs Segment 9'!E13 -> #N/A | L12: ='Inputs Segment 10'!E13 -> #N/A
B13: Traffic speed | C13: ='Inputs Segment 1'!E14 -> #N/A | D13: ='Inputs Segment 2'!E14 -> #N/A | E13: ='Inputs Segment 3'!E14 -> #N/A | F13: ='Inputs Segment 4'!E14 -> #N/A | G13: ='Inputs Segment 5'!E14 -> #N/A | H13: ='Inputs Segment 6'!E14 -> #N/A | I13: ='Inputs Segment 7'!E14 -> #N/A | J13: ='Inputs Segment 8'!E14 -> #N/A | K13: ='Inputs Segment 9'!E14 -> #N/A | L13: ='Inputs Segment 10'!E14 -> #N/A
B14: Number of street traffic lanes (per direction) | C14: ='Inputs Segment 1'!E15 -> #N/A | D14: ='Inputs Segment 2'!E15 -> #N/A | E14: ='Inputs Segment 3'!E15 -> #N/A | F14: ='Inputs Segment 4'!E15 -> #N/A | G14: ='Inputs Segment 5'!E15 -> #N/A | H14: ='Inputs Segment 6'!E15 -> #N/A | I14: ='Inputs Segment 7'!E15 -> #N/A | J14: ='Inputs Segment 8'!E15 -> #N/A | K14: ='Inputs Segment 9'!E15 -> #N/A | L14: ='Inputs Segment 10'!E15 -> #N/A
B15: Traffic volume on street crossed (AADT) | C15: ='Inputs Segment 1'!E16 -> #N/A | D15: ='Inputs Segment 2'!E16 -> #N/A | E15: ='Inputs Segment 3'!E16 -> #N/A | F15: ='Inputs Segment 4'!E16 -> #N/A | G15: ='Inputs Segment 5'!E16 -> #N/A | H15: ='Inputs Segment 6'!E16 -> #N/A | I15: ='Inputs Segment 7'!E16 -> #N/A | J15: ='Inputs Segment 8'!E16 -> #N/A | K15: ='Inputs Segment 9'!E16 -> #N/A | L15: ='Inputs Segment 10'!E16 -> #N/A
B16: Traffic speed on street crossed | C16: ='Inputs Segment 1'!E17 -> #N/A | D16: ='Inputs Segment 2'!E17 -> #N/A | E16: ='Inputs Segment 3'!E17 -> #N/A | F16: ='Inputs Segment 4'!E17 -> #N/A | G16: ='Inputs Segment 5'!E17 -> #N/A | H16: ='Inputs Segment 6'!E17 -> #N/A | I16: ='Inputs Segment 7'!E17 -> #N/A | J16: ='Inputs Segment 8'!E17 -> #N/A | K16: ='Inputs Segment 9'!E17 -> #N/A | L16: ='Inputs Segment 10'!E17 -> #N/A
B17: Intersection crossing distance | C17: ='Inputs Segment 1'!E18 -> #N/A | D17: ='Inputs Segment 2'!E18 -> #N/A | E17: ='Inputs Segment 3'!E18 -> #N/A | F17: ='Inputs Segment 4'!E18 -> #N/A | G17: ='Inputs Segment 5'!E18 -> #N/A | H17: ='Inputs Segment 6'!E18 -> #N/A | I17: ='Inputs Segment 7'!E18 -> #N/A | J17: ='Inputs Segment 8'!E18 -> #N/A | K17: ='Inputs Segment 9'!E18 -> #N/A | L17: ='Inputs Segment 10'!E18 -> #N/A
A18: Safe- Facility Dimensions | B18: Cycle lane/path width | C18: ='Inputs Segment 1'!E19 -> #N/A | D18: ='Inputs Segment 2'!E19 -> #N/A | E18: ='Inputs Segment 3'!E19 -> #N/A | F18: ='Inputs Segment 4'!E19 -> #N/A | G18: ='Inputs Segment 5'!E19 -> #N/A | H18: ='Inputs Segment 6'!E19 -> #N/A | I18: ='Inputs Segment 7'!E19 -> #N/A | J18: ='Inputs Segment 8'!E19 -> #N/A | K18: ='Inputs Segment 9'!E19 -> #N/A | L18: ='Inputs Segment 10'!E19 -> #N/A
B19: Corner kerb radii | C19: ='Inputs Segment 1'!E20 -> #N/A | D19: ='Inputs Segment 2'!E20 -> #N/A | E19: ='Inputs Segment 3'!E20 -> #N/A | F19: ='Inputs Segment 4'!E20 -> #N/A | G19: ='Inputs Segment 5'!E20 -> #N/A | H19: ='Inputs Segment 6'!E20 -> #N/A | I19: ='Inputs Segment 7'!E20 -> #N/A | J19: ='Inputs Segment 8'!E20 -> #N/A | K19: ='Inputs Segment 9'!E20 -> #N/A | L19: ='Inputs Segment 10'!E20 -> #N/A
B20: Provision of queue space for cyclists | C20: ='Inputs Segment 1'!E21 -> #N/A | D20: ='Inputs Segment 2'!E21 -> #N/A | E20: ='Inputs Segment 3'!E21 -> #N/A | F20: ='Inputs Segment 4'!E21 -> #N/A | G20: ='Inputs Segment 5'!E21 -> #N/A | H20: ='Inputs Segment 6'!E21 -> #N/A | I20: ='Inputs Segment 7'!E21 -> #N/A | J20: ='Inputs Segment 8'!E21 -> #N/A | K20: ='Inputs Segment 9'!E21 -> #N/A | L20: ='Inputs Segment 10'!E21 -> #N/A
A21: Safe- Conflicts | B21: Facility blockage (by traffic, parked vehicles or other obstructions) | C21: ='Inputs Segment 1'!E22 -> #N/A | D21: ='Inputs Segment 2'!E22 -> #N/A | E21: ='Inputs Segment 3'!E22 -> #N/A | F21: ='Inputs Segment 4'!E22 -> #N/A | G21: ='Inputs Segment 5'!E22 -> #N/A | H21: ='Inputs Segment 6'!E22 -> #N/A | I21: ='Inputs Segment 7'!E22 -> #N/A | J21: ='Inputs Segment 8'!E22 -> #N/A | K21: ='Inputs Segment 9'!E22 -> #N/A | L21: ='Inputs Segment 10'!E22 -> #N/A
B22: Interaction with on-street car parking | C22: ='Inputs Segment 1'!E23 -> #N/A | D22: ='Inputs Segment 2'!E23 -> #N/A | E22: ='Inputs Segment 3'!E23 -> #N/A | F22: ='Inputs Segment 4'!E23 -> #N/A | G22: ='Inputs Segment 5'!E23 -> #N/A | H22: ='Inputs Segment 6'!E23 -> #N/A | I22: ='Inputs Segment 7'!E23 -> #N/A | J22: ='Inputs Segment 8'!E23 -> #N/A | K22: ='Inputs Segment 9'!E23 -> #N/A | L22: ='Inputs Segment 10'!E23 -> #N/A
B23: Interaction with public transport stops (where weekday transit vehicle frequency is ≥4) | C23: ='Inputs Segment 1'!E24 -> #N/A | D23: ='Inputs Segment 2'!E24 -> #N/A | E23: ='Inputs Segment 3'!E24 -> #N/A | F23: ='Inputs Segment 4'!E24 -> #N/A | G23: ='Inputs Segment 5'!E24 -> #N/A | H23: ='Inputs Segment 6'!E24 -> #N/A | I23: ='Inputs Segment 7'!E24 -> #N/A | J23: ='Inputs Segment 8'!E24 -> #N/A | K23: ='Inputs Segment 9'!E24 -> #N/A | L23: ='Inputs Segment 10'!E24 -> #N/A
B24: Treatment at driveway intersections | C24: ='Inputs Segment 1'!E25 -> #N/A | D24: ='Inputs Segment 2'!E25 -> #N/A | E24: ='Inputs Segment 3'!E25 -> #N/A | F24: ='Inputs Segment 4'!E25 -> #N/A | G24: ='Inputs Segment 5'!E25 -> #N/A | H24: ='Inputs Segment 6'!E25 -> #N/A | I24: ='Inputs Segment 7'!E25 -> #N/A | J24: ='Inputs Segment 8'!E25 -> #N/A | K24: ='Inputs Segment 9'!E25 -> #N/A | L24: ='Inputs Segment 10'!E25 -> #N/A
B25: Signals | C25: ='Inputs Segment 1'!E26 -> #N/A | D25: ='Inputs Segment 2'!E26 -> #N/A | E25: ='Inputs Segment 3'!E26 -> #N/A | F25: ='Inputs Segment 4'!E26 -> #N/A | G25: ='Inputs Segment 5'!E26 -> #N/A | H25: ='Inputs Segment 6'!E26 -> #N/A | I25: ='Inputs Segment 7'!E26 -> #N/A | J25: ='Inputs Segment 8'!E26 -> #N/A | K25: ='Inputs Segment 9'!E26 -> #N/A | L25: ='Inputs Segment 10'!E26 -> #N/A
B26: Continuity across intersection | C26: ='Inputs Segment 1'!E27 -> #N/A | D26: ='Inputs Segment 2'!E27 -> #N/A | E26: ='Inputs Segment 3'!E27 -> #N/A | F26: ='Inputs Segment 4'!E27 -> #N/A | G26: ='Inputs Segment 5'!E27 -> #N/A | H26: ='Inputs Segment 6'!E27 -> #N/A | I26: ='Inputs Segment 7'!E27 -> #N/A | J26: ='Inputs Segment 8'!E27 -> #N/A | K26: ='Inputs Segment 9'!E27 -> #N/A | L26: ='Inputs Segment 10'!E27 -> #N/A
B27: Mixing Zone | C27: ='Inputs Segment 1'!E28 -> #N/A | D27: ='Inputs Segment 2'!E28 -> #N/A | E27: ='Inputs Segment 3'!E28 -> #N/A | F27: ='Inputs Segment 4'!E28 -> #N/A | G27: ='Inputs Segment 5'!E28 -> #N/A | H27: ='Inputs Segment 6'!E28 -> #N/A | I27: ='Inputs Segment 7'!E28 -> #N/A | J27: ='Inputs Segment 8'!E28 -> #N/A | K27: ='Inputs Segment 9'!E28 -> #N/A | L27: ='Inputs Segment 10'!E28 -> #N/A
A28: Direct | B28: Geometric directness | C28: ='Inputs Segment 1'!E29 -> #N/A | D28: ='Inputs Segment 2'!E29 -> #N/A | E28: ='Inputs Segment 3'!E29 -> #N/A | F28: ='Inputs Segment 4'!E29 -> #N/A | G28: ='Inputs Segment 5'!E29 -> #N/A | H28: ='Inputs Segment 6'!E29 -> #N/A | I28: ='Inputs Segment 7'!E29 -> #N/A | J28: ='Inputs Segment 8'!E29 -> #N/A | K28: ='Inputs Segment 9'!E29 -> #N/A | L28: ='Inputs Segment 10'!E29 -> #N/A
B29: Journey time (average wait time at intersection for cyclists) | C29: ='Inputs Segment 1'!E30 -> #N/A | D29: ='Inputs Segment 2'!E30 -> #N/A | E29: ='Inputs Segment 3'!E30 -> #N/A | F29: ='Inputs Segment 4'!E30 -> #N/A | G29: ='Inputs Segment 5'!E30 -> #N/A | H29: ='Inputs Segment 6'!E30 -> #N/A | I29: ='Inputs Segment 7'!E30 -> #N/A | J29: ='Inputs Segment 8'!E30 -> #N/A | K29: ='Inputs Segment 9'!E30 -> #N/A | L29: ='Inputs Segment 10'!E30 -> #N/A
B30: Presence of pedestrians (weekday peak hour pedestrian flows) | C30: ='Inputs Segment 1'!E31 -> #N/A | D30: ='Inputs Segment 2'!E31 -> #N/A | E30: ='Inputs Segment 3'!E31 -> #N/A | F30: ='Inputs Segment 4'!E31 -> #N/A | G30: ='Inputs Segment 5'!E31 -> #N/A | H30: ='Inputs Segment 6'!E31 -> #N/A | I30: ='Inputs Segment 7'!E31 -> #N/A | J30: ='Inputs Segment 8'!E31 -> #N/A | K30: ='Inputs Segment 9'!E31 -> #N/A | L30: ='Inputs Segment 10'!E31 -> #N/A
A31: Comfort | B31: Uphill Gradient/Slope | C31: ='Inputs Segment 1'!E32 -> #N/A | D31: ='Inputs Segment 2'!E32 -> #N/A | E31: ='Inputs Segment 3'!E32 -> #N/A | F31: ='Inputs Segment 4'!E32 -> #N/A | G31: ='Inputs Segment 5'!E32 -> #N/A | H31: ='Inputs Segment 6'!E32 -> #N/A | I31: ='Inputs Segment 7'!E32 -> #N/A | J31: ='Inputs Segment 8'!E32 -> #N/A | K31: ='Inputs Segment 9'!E32 -> #N/A | L31: ='Inputs Segment 10'!E32 -> #N/A
B32: Downhill Gradient/Slope | C32: ='Inputs Segment 1'!E33 -> #N/A | D32: ='Inputs Segment 2'!E33 -> #N/A | E32: ='Inputs Segment 3'!E33 -> #N/A | F32: ='Inputs Segment 4'!E33 -> #N/A | G32: ='Inputs Segment 5'!E33 -> #N/A | H32: ='Inputs Segment 6'!E33 -> #N/A | I32: ='Inputs Segment 7'!E33 -> #N/A | J32: ='Inputs Segment 8'!E33 -> #N/A | K32: ='Inputs Segment 9'!E33 -> #N/A | L32: ='Inputs Segment 10'!E33 -> #N/A
B33: Social Safety | C33: ='Inputs Segment 1'!E34 -> #N/A | D33: ='Inputs Segment 2'!E34 -> #N/A | E33: ='Inputs Segment 3'!E34 -> #N/A | F33: ='Inputs Segment 4'!E34 -> #N/A | G33: ='Inputs Segment 5'!E34 -> #N/A | H33: ='Inputs Segment 6'!E34 -> #N/A | I33: ='Inputs Segment 7'!E34 -> #N/A | J33: ='Inputs Segment 8'!E34 -> #N/A | K33: ='Inputs Segment 9'!E34 -> #N/A | L33: ='Inputs Segment 10'!E34 -> #N/A

Sheet Inputs Segment 1
B1: Inputs Segment 1
B2: Segment 1 Location:
B3: Weakest Score by Principle
B4: Safe - Infrastructure Type Suitable for Street Conditions | C4: {=IF(OR(C10="Shared Path",C10="Separated Cycle Path"),1,(MAX(IF(ISERROR(E13:E18),0,$E$13:$E$18))))} -> 0
B5: Safe - Appropriate Facility Dimensions | C5: {=MAX(IF(ISERROR(E$19:E$21),0,$E$19:$E$21))} -> 0
B6: Safe - Potential Conflicts Minimised | C6: {=MAX(IF(ISERROR(E$22:E$28),0,$E$22:$E$28))} -> 0
B7: Direct | C7: {=MAX(IF(ISERROR(E$29:E$31),0,$E$29:$E$31))} -> 0
B8: Comfort | C8: {=MAX(IF(ISERROR($E$32:$E$34),0,$E$32:$E$34))} -> 0
B10: Choose Segment Type:
A12: Principle | B12: Principle | C12: Criteria | D12: Standards Drop Down (Choose most appropriate option from drop down list) | E12: Score (automatically populates) | F12: Actual Values (e.g. 2544 AADT)
A13: Safety | B13: Safe - Infrastructure Type Suitable for Street Conditions | C13: =IF(OR($C$10='Safe-Infrastructure Type'!$A$25,'Inputs Segment 1'!$C$10='Safe-Infrastructure Type'!$A$26),'Safe-Infrastructure Type'!$A$24," ") | E13: {=INDEX(Data!$E$15:$E$234,MATCH(D13,IF($C$10=Data!A$15:A$234,Data!$D$15:$D$234),0))} -> #N/A
C14: =IF(OR($C$10='Safe-Infrastructure Type'!$B$25,'Inputs Segment 1'!$C$10='Safe-Infrastructure Type'!$B$26),'Safe-Infrastructure Type'!$B$24," ") | E14: {=INDEX(Data!$E$15:$E$234,MATCH(D14,IF($C$10=Data!A$15:A$234,Data!$D$15:$D$234),0))} -> #N/A
A15: Safety | C15: =IF(OR($C$10='Safe-Infrastructure Type'!$C$25,'Inputs Segment 1'!$C$10='Safe-Infrastructure Type'!C26),'Safe-Infrastructure Type'!$C$24," ") | E15: {=INDEX(Data!$E$15:$E$234,MATCH(D15,IF($C$10=Data!A$15:A$234,Data!$D$15:$D$234),0))} -> #N/A
C16: =IF(OR($C$10='Safe-Infrastructure Type'!D25,'Inputs Segment 1'!$C$10='Safe-Infrastructure Type'!D26),'Safe-Infrastructure Type'!D24," ") | E16: {=INDEX(Data!$E$15:$E$234,MATCH(D16,IF($C$10=Data!A$15:A$234,Data!$D$15:$D$234),0))} -> #N/A
C17: =IF(OR('Inputs Segment 1'!$C$10='Safe-Infrastructure Type'!$E$25,'Inputs Segment 1'!$C$10='Safe-Infrastructure Type'!$E$26,'Inputs Segment 1'!$C$10='Safe-Infrastructure Type'!$E$27),'Safe-Infrastructure Type'!$E$24," ") | E17: {=INDEX(Data!$E$15:$E$234,MATCH(D17,IF($C$10=Data!A$15:A$234,Data!$D$15:$D$234),0))} -> #N/A
A18: Safety | C18: =IF(OR($C$10='Safe-Infrastructure Type'!$F$25),'Safe-Infrastructure Type'!$F$24," ") | E18: {=INDEX(Data!$E$15:$E$234,MATCH(D18,IF($C$10=Data!A$15:A$234,Data!$D$15:$D$234),0))} -> #N/A
A19: Safety | B19: Safe - Appropriate Facility Dimensions | C19: =IF(OR('Inputs Segment 1'!$C$10='Safe- Facility Dimensions'!$A$14,'Inputs Segment 1'!$C$10='Safe- Facility Dimensions'!$A$15,'Inputs Segment 1'!$C$10='Safe- Facility Dimensions'!$A$16),'Safe- Facility Dimensions'!$A$13," ") | E19: {=INDEX(Data!$E$15:$E$234,MATCH(D19,IF($C$10=Data!A$15:A$234,Data!$D$15:$D$234),0))} -> #N/A
A20: Safety | C20: =IF(OR('Inputs Segment 1'!$C$10='Safe- Facility Dimensions'!$B$14,'Inputs Segment 1'!$C$10='Safe- Facility Dimensions'!$B$15),'Safe- Facility Dimensions'!$B$13," ") | E20: {=INDEX(Data!$E$15:$E$234,MATCH(D20,IF($C$10=Data!A$15:A$234,Data!$D$15:$D$234),0))} -> #N/A
A21: Safety | C21: =IF(OR('Inputs Segment 1'!$C$10='Safe- Facility Dimensions'!$C$14),'Safe- Facility Dimensions'!$C$13," ") | E21: {=INDEX(Data!$E$15:$E$234,MATCH(D21,IF($C$10=Data!A$15:A$234,Data!$D$15:$D$234),0))} -> #N/A
A22: Safety | B22: Safe - Potential Conflicts Minimised | C22: =IF(OR('Inputs Segment 1'!$C$10='Safe- Conflicts'!$A$23,'Inputs Segment 1'!$C$10='Safe- Conflicts'!$A$24,'Inputs Segment 1'!$C$10='Safe- Conflicts'!$A$25),'Safe- Conflicts'!$A$22," ") | E22: {=INDEX(Data!$E$15:$E$234,MATCH(D22,IF($C$10=Data!A$15:A$234,Data!$D$15:$D$234),0))} -> #N/A
A23: Safety | C23: =IF(OR('Inputs Segment 1'!$C$10='Safe- Conflicts'!$B$23,'Inputs Segment 1'!$C$10='Safe- Conflicts'!$B$24,'Inputs Segment 1'!$C$10='Safe- Conflicts'!$B$25),'Safe- Conflicts'!$B$22," ") | E23: {=INDEX(Data!$E$15:$E$234,MATCH(D23,IF($C$10=Data!A$15:A$234,Data!$D$15:$D$234),0))} -> #N/A
A24: Safety | C24: =IF(OR('Inputs Segment 1'!$C$10='Safe- Conflicts'!$C$23,'Inputs Segment 1'!$C$10='Safe- Conflicts'!$C$24,'Inputs Segment 1'!$C$10='Safe- Conflicts'!$C$25),'Safe- Conflicts'!$C$22," ") | E24: {=INDEX(Data!$E$15:$E$234,MATCH(D24,IF($C$10=Data!A$15:A$234,Data!$D$15:$D$234),0))} -> #N/A
A25: Safety | C25: =IF(OR('Inputs Segment 1'!$C$10='Safe- Conflicts'!$D$23,'Inputs Segment 1'!$C$10='Safe- Conflicts'!$D$24,'Inputs Segment 1'!$C$10='Safe- Conflicts'!$D$25),'Safe- Conflicts'!$D$22," ") | E25: {=INDEX(Data!$E$15:$E$234,MATCH(D25,IF($C$10=Data!A$15:A$234,Data!$D$15:$D$234),0))} -> #N/A
A26: Safety | C26: =IF(OR('Inputs Segment 1'!$C$10='Safe- Conflicts'!$E$23),'Safe- Conflicts'!$E$22," ") | E26: {=INDEX(Data!$E$15:$E$234,MATCH(D26,IF($C$10=Data!A$15:A$234,Data!$D$15:$D$234),0))} -> #N/A
A27: Safety | C27: =IF(OR('Inputs Segment 1'!$C$10='Safe- Conflicts'!$F$23,'Inputs Segment 1'!$C$10='Safe- Conflicts'!$F$24,'Inputs Segment 1'!$C$10='Safe- Conflicts'!$F$25),'Safe- Conflicts'!$F$22," ") | E27: {=INDEX(Data!$E$15:$E$234,MATCH(D27,IF($C$10=Data!A$15:A$234,Data!$D$15:$D$234),0))} -> #N/A
A28: Safety | C28: =IF(OR('Inputs Segment 1'!$C$10='Safe- Conflicts'!$G$23,$C$10='Safe- Conflicts'!$G$24,$C$10='Safe- Conflicts'!$G$25),'Safe- Conflicts'!$G$22," ") | E28: {=INDEX(Data!$E$15:$E$234,MATCH(D28,IF($C$10=Data!A$15:A$234,Data!$D$15:$D$234),0))} -> #N/A
A29: Safety | B29: Direct | C29: =IF(OR('Inputs Segment 1'!$C$10=Direct!$B$20,'Inputs Segment 1'!$C$10=Direct!$B$21,'Inputs Segment 1'!$C$10=Direct!$B$22,'Inputs Segment 1'!$C$10=Direct!$B$23,C10=Direct!$B$24,'Inputs Segment 1'!C10=Direct!$B$25,'Inputs Segment 1'!$C$10=Direct!$B$26),Direct!$B$19," ") | E29: {=INDEX(Data!$E$15:$E$234,MATCH(D29,IF($C$10=Data!A$15:A$234,Data!$D$15:$D$234),0))} -> #N/A
A30: Safety | C30: =IF(OR('Inputs Segment 1'!$C$10=Direct!$C$20,'Inputs Segment 1'!$C$10=Direct!$C$21),Direct!$C$19," ") | E30: {=INDEX(Data!$E$15:$E$234,MATCH(D30,IF($C$10=Data!A$15:A$234,Data!$D$15:$D$234),0))} -> #N/A
A31: Safety | C31: =IF(OR('Inputs Segment 1'!$C$10=Direct!$D$20),Direct!$D$19," ") | E31: {=INDEX(Data!$E$15:$E$234,MATCH(D31,IF($C$10=Data!A$15:A$234,Data!$D$15:$D$234),0))} -> #N/A
A32: Safety | B32: Comfort | C32: =IF(OR('Inputs Segment 1'!$C$10=Comfort!$A$20,'Inputs Segment 1'!$C$10=Comfort!$A$21,'Inputs Segment 1'!$C$10=Comfort!$A$22,'Inputs Segment 1'!$C$10=Comfort!$A$23),Comfort!$A$19," ") | E32: {=INDEX(Data!$E$15:$E$234,MATCH(D32,IF($C$10=Data!A$15:A$234,Data!$D$15:$D$234),0))} -> #N/A
C33: =IF(OR('Inputs Segment 1'!$C$10=Comfort!$B$20,'Inputs Segment 1'!$C$10=Comfort!$B$21,'Inputs Segment 1'!$C$10=Comfort!$B$22,'Inputs Segment 1'!$C$10=Comfort!$B$23),Comfort!$B$19," ") | E33: {=INDEX(Data!$E$15:$E$234,MATCH(D33,IF($C$10=Data!A$15:A$234,Data!$D$15:$D$234),0))} -> #N/A
C34: =IF(OR('Inputs Segment 1'!$C$10=Comfort!$C$20,'Inputs Segment 1'!$C$10=Comfort!$C$21,'Inputs Segment 1'!$C$10=Comfort!$C$22,'Inputs Segment 1'!$C$10=Comfort!$C$23),Comfort!$C$19," ") | E34: {=INDEX(Data!$E$15:$E$234,MATCH(D34,IF($C$10=Data!A$15:A$234,Data!$D$15:$D$234),0))} -> #N/A
A35: Safety
A36: Comfort
A37: Comfort
A38: Comfort
A39: Comfort
A40: Comfort
A42: Directness
A43: Directness
...

Sheet Inputs Segment 2
B1: Inputs Segment 2
B2: Segment 2 Location:
B3: Weakest Score by Principle
B4: Safe - Infrastructure Type Suitable for Street Conditions | C4: {=IF(OR(C10="Shared Path",C10="Separated Cycle Path"),1,(MAX(IF(ISERROR(E13:E18),0,$E$13:$E$18))))} -> 0
B5: Safe - Appropriate Facility Dimensions | C5: {=MAX(IF(ISERROR(E$19:E$21),0,$E$19:$E$21))} -> 0
B6: Safe - Potential Conflicts Minimised | C6: {=MAX(IF(ISERROR(E$22:E$28),0,$E$22:$E$28))} -> 0
B7: Direct | C7: {=MAX(IF(ISERROR(E$29:E$31),0,$E$29:$E$31))} -> 0
B8: Comfort | C8: {=MAX(IF(ISERROR($E$32:$E$34),0,$E$32:$E$34))} -> 0
B10: Choose Segment Type:
A12: Principle | B12: Principle | C12: Criteria | D12: Standards Drop Down (Choose most appropriate option from drop down list) | E12: Score (automatically populates) | F12: Actual Values (e.g. 2544 AADT)
A13: Safety | B13: Safe - Infrastructure Type Suitable for Street Conditions | C13: =IF(OR($C$10='Safe-Infrastructure Type'!$A$25,'Inputs Segment 2'!$C$10='Safe-Infrastructure Type'!$A$26),'Safe-Infrastructure Type'!$A$24," ") | E13: {=INDEX(Data!$E$15:$E$234,MATCH(D13,IF($C$10=Data!A$15:A$234,Data!$D$15:$D$234),0))} -> #N/A
C14: =IF(OR($C$10='Safe-Infrastructure Type'!$B$25,'Inputs Segment 2'!$C$10='Safe-Infrastructure Type'!$B$26),'Safe-Infrastructure Type'!$B$24," ") | E14: {=INDEX(Data!$E$15:$E$234,MATCH(D14,IF($C$10=Data!A$15:A$234,Data!$D$15:$D$234),0))} -> #N/A
A15: Safety | C15: =IF(OR($C$10='Safe-Infrastructure Type'!$C$25,'Inputs Segment 2'!$C$10='Safe-Infrastructure Type'!C26),'Safe-Infrastructure Type'!$C$24," ") | E15: {=INDEX(Data!$E$15:$E$234,MATCH(D15,IF($C$10=Data!A$15:A$234,Data!$D$15:$D$234),0))} -> #N/A
C16: =IF(OR($C$10='Safe-Infrastructure Type'!D25,'Inputs Segment 2'!$C$10='Safe-Infrastructure Type'!D26),'Safe-Infrastructure Type'!D24," ") | E16: {=INDEX(Data!$E$15:$E$234,MATCH(D16,IF($C$10=Data!A$15:A$234,Data!$D$15:$D$234),0))} -> #N/A
C17: =IF(OR('Inputs Segment 2'!$C$10='Safe-Infrastructure Type'!$E$25,'Inputs Segment 2'!$C$10='Safe-Infrastructure Type'!$E$26,'Inputs Segment 2'!$C$10='Safe-Infrastructure Type'!$E$27),'Safe-Infrastructure Type'!$E$24," ") | E17: {=INDEX(Data!$E$15:$E$234,MATCH(D17,IF($C$10=Data!A$15:A$234,Data!$D$15:$D$234),0))} -> #N/A
A18: Safety | C18: =IF(OR($C$10='Safe-Infrastructure Type'!$F$25),'Safe-Infrastructure Type'!$F$24," ") | E18: {=INDEX(Data!$E$15:$E$234,MATCH(D18,IF($C$10=Data!A$15:A$234,Data!$D$15:$D$234),0))} -> #N/A
A19: Safety | B19: Safe - Appropriate Facility Dimensions | C19: =IF(OR('Inputs Segment 2'!$C$10='Safe- Facility Dimensions'!$A$14,'Inputs Segment 2'!$C$10='Safe- Facility Dimensions'!$A$15,'Inputs Segment 2'!$C$10='Safe- Facility Dimensions'!$A$16),'Safe- Facility Dimensions'!$A$13," ") | E19: {=INDEX(Data!$E$15:$E$234,MATCH(D19,IF($C$10=Data!A$15:A$234,Data!$D$15:$D$234),0))} -> #N/A
A20: Safety | C20: =IF(OR('Inputs Segment 2'!$C$10='Safe- Facility Dimensions'!$B$14,'Inputs Segment 2'!$C$10='Safe- Facility Dimensions'!$B$15),'Safe- Facility Dimensions'!$B$13," ") | E20: {=INDEX(Data!$E$15:$E$234,MATCH(D20,IF($C$10=Data!A$15:A$234,Data!$D$15:$D$234),0))} -> #N/A
A21: Safety | C21: =IF(OR('Inputs Segment 2'!$C$10='Safe- Facility Dimensions'!$C$14),'Safe- Facility Dimensions'!$C$13," ") | E21: {=INDEX(Data!$E$15:$E$234,MATCH(D21,IF($C$10=Data!A$15:A$234,Data!$D$15:$D$234),0))} -> #N/A
A22: Safety | B22: Safe - Potential Conflicts Minimised | C22: =IF(OR('Inputs Segment 2'!$C$10='Safe- Conflicts'!$A$23,'Inputs Segment 2'!$C$10='Safe- Conflicts'!$A$24,'Inputs Segment 2'!$C$10='Safe- Conflicts'!$A$25),'Safe- Conflicts'!$A$22," ") | E22: {=INDEX(Data!$E$15:$E$234,MATCH(D22,IF($C$10=Data!A$15:A$234,Data!$D$15:$D$234),0))} -> #N/A
A23: Safety | C23: =IF(OR('Inputs Segment 2'!$C$10='Safe- Conflicts'!$B$23,'Inputs Segment 2'!$C$10='Safe- Conflicts'!$B$24,'Inputs Segment 2'!$C$10='Safe- Conflicts'!$B$25),'Safe- Conflicts'!$B$22," ") | E23: {=INDEX(Data!$E$15:$E$234,MATCH(D23,IF($C$10=Data!A$15:A$234,Data!$D$15:$D$234),0))} -> #N/A
A24: Safety | C24: =IF(OR('Inputs Segment 2'!$C$10='Safe- Conflicts'!$C$23,'Inputs Segment 2'!$C$10='Safe- Conflicts'!$C$24,'Inputs Segment 2'!$C$10='Safe- Conflicts'!$C$25),'Safe- Conflicts'!$C$22," ") | E24: {=INDEX(Data!$E$15:$E$234,MATCH(D24,IF($C$10=Data!A$15:A$234,Data!$D$15:$D$234),0))} -> #N/A
A25: Safety | C25: =IF(OR('Inputs Segment 2'!$C$10='Safe- Conflicts'!$D$23,'Inputs Segment 2'!$C$10='Safe- Conflicts'!$D$24,'Inputs Segment 2'!$C$10='Safe- Conflicts'!$D$25),'Safe- Conflicts'!$D$22," ") | E25: {=INDEX(Data!$E$15:$E$234,MATCH(D25,IF($C$10=Data!A$15:A$234,Data!$D$15:$D$234),0))} -> #N/A
A26: Safety | C26: =IF(OR('Inputs Segment 2'!$C$10='Safe- Conflicts'!$E$23),'Safe- Conflicts'!$E$22," ") | E26: {=INDEX(Data!$E$15:$E$234,MATCH(D26,IF($C$10=Data!A$15:A$234,Data!$D$15:$D$234),0))} -> #N/A
A27: Safety | C27: =IF(OR('Inputs Segment 2'!$C$10='Safe- Conflicts'!$F$23,'Inputs Segment 2'!$C$10='Safe- Conflicts'!$F$24,'Inputs Segment 2'!$C$10='Safe- Conflicts'!$F$25),'Safe- Conflicts'!$F$22," ") | E27: {=INDEX(Data!$E$15:$E$234,MATCH(D27,IF($C$10=Data!A$15:A$234,Data!$D$15:$D$234),0))} -> #N/A
A28: Safety | C28: =IF(OR('Inputs Segment 2'!$C$10='Safe- Conflicts'!$G$23,$C$10='Safe- Conflicts'!$G$24,$C$10='Safe- Conflicts'!$G$25),'Safe- Conflicts'!$G$22," ") | E28: {=INDEX(Data!$E$15:$E$234,MATCH(D28,IF($C$10=Data!A$15:A$234,Data!$D$15:$D$234),0))} -> #N/A
A29: Safety | B29: Direct | C29: =IF(OR('Inputs Segment 2'!$C$10=Direct!$B$20,'Inputs Segment 2'!$C$10=Direct!$B$21,'Inputs Segment 2'!$C$10=Direct!$B$22,'Inputs Segment 2'!$C$10=Direct!$B$23,C10=Direct!$B$24,'Inputs Segment 2'!C10=Direct!$B$25,'Inputs Segment 2'!$C$10=Direct!$B$26),Direct!$B$19," ") | E29: {=INDEX(Data!$E$15:$E$234,MATCH(D29,IF($C$10=Data!A$15:A$234,Data!$D$15:$D$234),0))} -> #N/A
A30: Safety | C30: =IF(OR('Inputs Segment 2'!$C$10=Direct!$C$20,'Inputs Segment 2'!$C$10=Direct!$C$21),Direct!$C$19," ") | E30: {=INDEX(Data!$E$15:$E$234,MATCH(D30,IF($C$10=Data!A$15:A$234,Data!$D$15:$D$234),0))} -> #N/A
A31: Safety | C31: =IF(OR('Inputs Segment 2'!$C$10=Direct!$D$20),Direct!$D$19," ") | E31: {=INDEX(Data!$E$15:$E$234,MATCH(D31,IF($C$10=Data!A$15:A$234,Data!$D$15:$D$234),0))} -> #N/A
A32: Safety | B32: Comfort | C32: =IF(OR('Inputs Segment 2'!$C$10=Comfort!$A$20,'Inputs Segment 2'!$C$10=Comfort!$A$21,'Inputs Segment 2'!$C$10=Comfort!$A$22,'Inputs Segment 2'!$C$10=Comfort!$A$23),Comfort!$A$19," ") | E32: {=INDEX(Data!$E$15:$E$234,MATCH(D32,IF($C$10=Data!A$15:A$234,Data!$D$15:$D$234),0))} -> #N/A
C33: =IF(OR('Inputs Segment 2'!$C$10=Comfort!$B$20,'Inputs Segment 2'!$C$10=Comfort!$B$21,'Inputs Segment 2'!$C$10=Comfort!$B$22,'Inputs Segment 2'!$C$10=Comfort!$B$23),Comfort!$B$19," ") | E33: {=INDEX(Data!$E$15:$E$234,MATCH(D33,IF($C$10=Data!A$15:A$234,Data!$D$15:$D$234),0))} -> #N/A
C34: =IF(OR('Inputs Segment 2'!$C$10=Comfort!$C$20,'Inputs Segment 2'!$C$10=Comfort!$C$21,'Inputs Segment 2'!$C$10=Comfort!$C$22,'Inputs Segment 2'!$C$10=Comfort!$C$23),Comfort!$C$19," ") | E34: {=INDEX(Data!$E$15:$E$234,MATCH(D34,IF($C$10=Data!A$15:A$234,Data!$D$15:$D$234),0))} -> #N/A
A35: Safety
A36: Comfort
A37: Comfort
A38: Comfort
A39: Comfort
A40: Comfort
A42: Directness
A43: Directness
...

Sheet Inputs Segment 3
B1: Inputs Segment 3
B2: Segment 3 Location:
B3: Weakest Score by Principle
B4: Safe - Infrastructure Type Suitable for Street Conditions | C4: {=IF(OR(C10="Shared Path",C10="Separated Cycle Path"),1,(MAX(IF(ISERROR(E13:E18),0,$E$13:$E$18))))} -> 0
B5: Safe - Appropriate Facility Dimensions | C5: {=MAX(IF(ISERROR(E$19:E$21),0,$E$19:$E$21))} -> 0
B6: Safe - Potential Conflicts Minimised | C6: {=MAX(IF(ISERROR(E$22:E$28),0,$E$22:$E$28))} -> 0
B7: Direct | C7: {=MAX(IF(ISERROR(E$29:E$31),0,$E$29:$E$31))} -> 0
B8: Comfort | C8: {=MAX(IF(ISERROR($E$32:$E$34),0,$E$32:$E$34))} -> 0
B10: Choose Segment Type:
A12: Principle | B12: Principle | C12: Criteria | D12: Standards Drop Down (Choose most appropriate option from drop down list) | E12: Score (automatically populates) | F12: Actual Values (e.g. 2544 AADT)
A13: Safety | B13: Safe - Infrastructure Type Suitable for Street Conditions | C13: =IF(OR($C$10='Safe-Infrastructure Type'!$A$25,'Inputs Segment 3'!$C$10='Safe-Infrastructure Type'!$A$26),'Safe-Infrastructure Type'!$A$24," ") | E13: {=INDEX(Data!$E$15:$E$234,MATCH(D13,IF($C$10=Data!A$15:A$234,Data!$D$15:$D$234),0))} -> #N/A
C14: =IF(OR($C$10='Safe-Infrastructure Type'!$B$25,'Inputs Segment 3'!$C$10='Safe-Infrastructure Type'!$B$26),'Safe-Infrastructure Type'!$B$24," ") | E14: {=INDEX(Data!$E$15:$E$234,MATCH(D14,IF($C$10=Data!A$15:A$234,Data!$D$15:$D$234),0))} -> #N/A
A15: Safety | C15: =IF(OR($C$10='Safe-Infrastructure Type'!$C$25,'Inputs Segment 3'!$C$10='Safe-Infrastructure Type'!C26),'Safe-Infrastructure Type'!$C$24," ") | E15: {=INDEX(Data!$E$15:$E$234,MATCH(D15,IF($C$10=Data!A$15:A$234,Data!$D$15:$D$234),0))} -> #N/A
C16: =IF(OR($C$10='Safe-Infrastructure Type'!D25,'Inputs Segment 3'!$C$10='Safe-Infrastructure Type'!D26),'Safe-Infrastructure Type'!D24," ") | E16: {=INDEX(Data!$E$15:$E$234,MATCH(D16,IF($C$10=Data!A$15:A$234,Data!$D$15:$D$234),0))} -> #N/A
C17: =IF(OR('Inputs Segment 3'!$C$10='Safe-Infrastructure Type'!$E$25,'Inputs Segment 3'!$C$10='Safe-Infrastructure Type'!$E$26,'Inputs Segment 3'!$C$10='Safe-Infrastructure Type'!$E$27),'Safe-Infrastructure Type'!$E$24," ") | E17: {=INDEX(Data!$E$15:$E$234,MATCH(D17,IF($C$10=Data!A$15:A$234,Data!$D$15:$D$234),0))} -> #N/A
A18: Safety | C18: =IF(OR($C$10='Safe-Infrastructure Type'!$F$25),'Safe-Infrastructure Type'!$F$24," ") | E18: {=INDEX(Data!$E$15:$E$234,MATCH(D18,IF($C$10=Data!A$15:A$234,Data!$D$15:$D$234),0))} -> #N/A
A19: Safety | B19: Safe - Appropriate Facility Dimensions | C19: =IF(OR('Inputs Segment 3'!$C$10='Safe- Facility Dimensions'!$A$14,'Inputs Segment 3'!$C$10='Safe- Facility Dimensions'!$A$15,'Inputs Segment 3'!$C$10='Safe- Facility Dimensions'!$A$16),'Safe- Facility Dimensions'!$A$13," ") | E19: {=INDEX(Data!$E$15:$E$234,MATCH(D19,IF($C$10=Data!A$15:A$234,Data!$D$15:$D$234),0))} -> #N/A
A20: Safety | C20: =IF(OR('Inputs Segment 3'!$C$10='Safe- Facility Dimensions'!$B$14,'Inputs Segment 3'!$C$10='Safe- Facility Dimensions'!$B$15),'Safe- Facility Dimensions'!$B$13," ") | E20: {=INDEX(Data!$E$15:$E$234,MATCH(D20,IF($C$10=Data!A$15:A$234,Data!$D$15:$D$234),0))} -> #N/A
A21: Safety | C21: =IF(OR('Inputs Segment 3'!$C$10='Safe- Facility Dimensions'!$C$14),'Safe- Facility Dimensions'!$C$13," ") | E21: {=INDEX(Data!$E$15:$E$234,MATCH(D21,IF($C$10=Data!A$15:A$234,Data!$D$15:$D$234),0))} -> #N/A
A22: Safety | B22: Safe - Potential Conflicts Minimised | C22: =IF(OR('Inputs Segment 3'!$C$10='Safe- Conflicts'!$A$23,'Inputs Segment 3'!$C$10='Safe- Conflicts'!$A$24,'Inputs Segment 3'!$C$10='Safe- Conflicts'!$A$25),'Safe- Conflicts'!$A$22," ") | E22: {=INDEX(Data!$E$15:$E$234,MATCH(D22,IF($C$10=Data!A$15:A$234,Data!$D$15:$D$234),0))} -> #N/A
A23: Safety | C23: =IF(OR('Inputs Segment 3'!$C$10='Safe- Conflicts'!$B$23,'Inputs Segment 3'!$C$10='Safe- Conflicts'!$B$24,'Inputs Segment 3'!$C$10='Safe- Conflicts'!$B$25),'Safe- Conflicts'!$B$22," ") | E23: {=INDEX(Data!$E$15:$E$234,MATCH(D23,IF($C$10=Data!A$15:A$234,Data!$D$15:$D$234),0))} -> #N/A
A24: Safety | C24: =IF(OR('Inputs Segment 3'!$C$10='Safe- Conflicts'!$C$23,'Inputs Segment 3'!$C$10='Safe- Conflicts'!$C$24,'Inputs Segment 3'!$C$10='Safe- Conflicts'!$C$25),'Safe- Conflicts'!$C$22," ") | E24: {=INDEX(Data!$E$15:$E$234,MATCH(D24,IF($C$10=Data!A$15:A$234,Data!$D$15:$D$234),0))} -> #N/A
A25: Safety | C25: =IF(OR('Inputs Segment 3'!$C$10='Safe- Conflicts'!$D$23,'Inputs Segment 3'!$C$10='Safe- Conflicts'!$D$24,'Inputs Segment 3'!$C$10='Safe- Conflicts'!$D$25),'Safe- Conflicts'!$D$22," ") | E25: {=INDEX(Data!$E$15:$E$234,MATCH(D25,IF($C$10=Data!A$15:A$234,Data!$D$15:$D$234),0))} -> #N/A
A26: Safety | C26: =IF(OR('Inputs Segment 3'!$C$10='Safe- Conflicts'!$E$23),'Safe- Conflicts'!$E$22," ") | E26: {=INDEX(Data!$E$15:$E$234,MATCH(D26,IF($C$10=Data!A$15:A$234,Data!$D$15:$D$234),0))} -> #N/A
A27: Safety | C27: =IF(OR('Inputs Segment 3'!$C$10='Safe- Conflicts'!$F$23,'Inputs Segment 3'!$C$10='Safe- Conflicts'!$F$24,'Inputs Segment 3'!$C$10='Safe- Conflicts'!$F$25),'Safe- Conflicts'!$F$22," ") | E27: {=INDEX(Data!$E$15:$E$234,MATCH(D27,IF($C$10=Data!A$15:A$234,Data!$D$15:$D$234),0))} -> #N/A
A28: Safety | C28: =IF(OR('Inputs Segment 3'!$C$10='Safe- Conflicts'!$G$23,$C$10='Safe- Conflicts'!$G$24,$C$10='Safe- Conflicts'!$G$25),'Safe- Conflicts'!$G$22," ") | E28: {=INDEX(Data!$E$15:$E$234,MATCH(D28,IF($C$10=Data!A$15:A$234,Data!$D$15:$D$234),0))} -> #N/A
A29: Safety | B29: Direct | C29: =IF(OR('Inputs Segment 3'!$C$10=Direct!$B$20,'Inputs Segment 3'!$C$10=Direct!$B$21,'Inputs Segment 3'!$C$10=Direct!$B$22,'Inputs Segment 3'!$C$10=Direct!$B$23,C10=Direct!$B$24,'Inputs Segment 3'!C10=Direct!$B$25,'Inputs Segment 3'!$C$10=Direct!$B$26),Direct!$B$19," ") | E29: {=INDEX(Data!$E$15:$E$234,MATCH(D29,IF($C$10=Data!A$15:A$234,Data!$D$15:$D$234),0))} -> #N/A
A30: Safety | C30: =IF(OR('Inputs Segment 3'!$C$10=Direct!$C$20,'Inputs Segment 3'!$C$10=Direct!$C$21),Direct!$C$19," ") | E30: {=INDEX(Data!$E$15:$E$234,MATCH(D30,IF($C$10=Data!A$15:A$234,Data!$D$15:$D$234),0))} -> #N/A
A31: Safety | C31: =IF(OR('Inputs Segment 3'!$C$10=Direct!$D$20),Direct!$D$19," ") | E31: {=INDEX(Data!$E$15:$E$234,MATCH(D31,IF($C$10=Data!A$15:A$234,Data!$D$15:$D$234),0))} -> #N/A
A32: Safety | B32: Comfort | C32: =IF(OR('Inputs Segment 3'!$C$10=Comfort!$A$20,'Inputs Segment 3'!$C$10=Comfort!$A$21,'Inputs Segment 3'!$C$10=Comfort!$A$22,'Inputs Segment 3'!$C$10=Comfort!$A$23),Comfort!$A$19," ") | E32: {=INDEX(Data!$E$15:$E$234,MATCH(D32,IF($C$10=Data!A$15:A$234,Data!$D$15:$D$234),0))} -> #N/A
C33: =IF(OR('Inputs Segment 3'!$C$10=Comfort!$B$20,'Inputs Segment 3'!$C$10=Comfort!$B$21,'Inputs Segment 3'!$C$10=Comfort!$B$22,'Inputs Segment 3'!$C$10=Comfort!$B$23),Comfort!$B$19," ") | E33: {=INDEX(Data!$E$15:$E$234,MATCH(D33,IF($C$10=Data!A$15:A$234,Data!$D$15:$D$234),0))} -> #N/A
C34: =IF(OR('Inputs Segment 3'!$C$10=Comfort!$C$20,'Inputs Segment 3'!$C$10=Comfort!$C$21,'Inputs Segment 3'!$C$10=Comfort!$C$22,'Inputs Segment 3'!$C$10=Comfort!$C$23),Comfort!$C$19," ") | E34: {=INDEX(Data!$E$15:$E$234,MATCH(D34,IF($C$10=Data!A$15:A$234,Data!$D$15:$D$234),0))} -> #N/A
A35: Safety
A36: Comfort
A37: Comfort
A38: Comfort
A39: Comfort
A40: Comfort
A42: Directness
A43: Directness
...

Sheet Inputs Segment 4
B1: Inputs Segment 4
B2: Segment 4 Location:
B3: Weakest Score by Principle
B4: Safe - Infrastructure Type Suitable for Street Conditions | C4: {=IF(OR(C10="Shared Path",C10="Separated Cycle Path"),1,(MAX(IF(ISERROR(E13:E18),0,$E$13:$E$18))))} -> 0
B5: Safe - Appropriate Facility Dimensions | C5: {=MAX(IF(ISERROR(E$19:E$21),0,$E$19:$E$21))} -> 0
B6: Safe - Potential Conflicts Minimised | C6: {=MAX(IF(ISERROR(E$22:E$28),0,$E$22:$E$28))} -> 0
B7: Direct | C7: {=MAX(IF(ISERROR(E$29:E$31),0,$E$29:$E$31))} -> 0
B8: Comfort | C8: {=MAX(IF(ISERROR($E$32:$E$34),0,$E$32:$E$34))} -> 0
B10: Choose Segment Type:
A12: Principle | B12: Principle | C12: Criteria | D12: Standards Drop Down (Choose most appropriate option from drop down list) | E12: Score (automatically populates) | F12: Actual Values (e.g. 2544 AADT)
A13: Safety | B13: Safe - Infrastructure Type Suitable for Street Conditions | C13: =IF(OR($C$10='Safe-Infrastructure Type'!$A$25,'Inputs Segment 4'!$C$10='Safe-Infrastructure Type'!$A$26),'Safe-Infrastructure Type'!$A$24," ") | E13: {=INDEX(Data!$E$15:$E$234,MATCH(D13,IF($C$10=Data!A$15:A$234,Data!$D$15:$D$234),0))} -> #N/A
C14: =IF(OR($C$10='Safe-Infrastructure Type'!$B$25,'Inputs Segment 4'!$C$10='Safe-Infrastructure Type'!$B$26),'Safe-Infrastructure Type'!$B$24," ") | E14: {=INDEX(Data!$E$15:$E$234,MATCH(D14,IF($C$10=Data!A$15:A$234,Data!$D$15:$D$234),0))} -> #N/A
A15: Safety | C15: =IF(OR($C$10='Safe-Infrastructure Type'!$C$25,'Inputs Segment 4'!$C$10='Safe-Infrastructure Type'!C26),'Safe-Infrastructure Type'!$C$24," ") | E15: {=INDEX(Data!$E$15:$E$234,MATCH(D15,IF($C$10=Data!A$15:A$234,Data!$D$15:$D$234),0))} -> #N/A
C16: =IF(OR($C$10='Safe-Infrastructure Type'!D25,'Inputs Segment 4'!$C$10='Safe-Infrastructure Type'!D26),'Safe-Infrastructure Type'!D24," ") | E16: {=INDEX(Data!$E$15:$E$234,MATCH(D16,IF($C$10=Data!A$15:A$234,Data!$D$15:$D$234),0))} -> #N/A
C17: =IF(OR('Inputs Segment 4'!$C$10='Safe-Infrastructure Type'!$E$25,'Inputs Segment 4'!$C$10='Safe-Infrastructure Type'!$E$26,'Inputs Segment 4'!$C$10='Safe-Infrastructure Type'!$E$27),'Safe-Infrastructure Type'!$E$24," ") | E17: {=INDEX(Data!$E$15:$E$234,MATCH(D17,IF($C$10=Data!A$15:A$234,Data!$D$15:$D$234),0))} -> #N/A
A18: Safety | C18: =IF(OR($C$10='Safe-Infrastructure Type'!$F$25),'Safe-Infrastructure Type'!$F$24," ") | E18: {=INDEX(Data!$E$15:$E$234,MATCH(D18,IF($C$10=Data!A$15:A$234,Data!$D$15:$D$234),0))} -> #N/A
A19: Safety | B19: Safe - Appropriate Facility Dimensions | C19: =IF(OR('Inputs Segment 4'!$C$10='Safe- Facility Dimensions'!$A$14,'Inputs Segment 4'!$C$10='Safe- Facility Dimensions'!$A$15,'Inputs Segment 4'!$C$10='Safe- Facility Dimensions'!$A$16),'Safe- Facility Dimensions'!$A$13," ") | E19: {=INDEX(Data!$E$15:$E$234,MATCH(D19,IF($C$10=Data!A$15:A$234,Data!$D$15:$D$234),0))} -> #N/A
A20: Safety | C20: =IF(OR('Inputs Segment 4'!$C$10='Safe- Facility Dimensions'!$B$14,'Inputs Segment 4'!$C$10='Safe- Facility Dimensions'!$B$15),'Safe- Facility Dimensions'!$B$13," ") | E20: {=INDEX(Data!$E$15:$E$234,MATCH(D20,IF($C$10=Data!A$15:A$234,Data!$D$15:$D$234),0))} -> #N/A
A21: Safety | C21: =IF(OR('Inputs Segment 4'!$C$10='Safe- Facility Dimensions'!$C$14),'Safe- Facility Dimensions'!$C$13," ") | E21: {=INDEX(Data!$E$15:$E$234,MATCH(D21,IF($C$10=Data!A$15:A$234,Data!$D$15:$D$234),0))} -> #N/A
A22: Safety | B22: Safe - Potential Conflicts Minimised | C22: =IF(OR('Inputs Segment 4'!$C$10='Safe- Conflicts'!$A$23,'Inputs Segment 4'!$C$10='Safe- Conflicts'!$A$24,'Inputs Segment 4'!$C$10='Safe- Conflicts'!$A$25),'Safe- Conflicts'!$A$22," ") | E22: {=INDEX(Data!$E$15:$E$234,MATCH(D22,IF($C$10=Data!A$15:A$234,Data!$D$15:$D$234),0))} -> #N/A
A23: Safety | C23: =IF(OR('Inputs Segment 4'!$C$10='Safe- Conflicts'!$B$23,'Inputs Segment 4'!$C$10='Safe- Conflicts'!$B$24,'Inputs Segment 4'!$C$10='Safe- Conflicts'!$B$25),'Safe- Conflicts'!$B$22," ") | E23: {=INDEX(Data!$E$15:$E$234,MATCH(D23,IF($C$10=Data!A$15:A$234,Data!$D$15:$D$234),0))} -> #N/A
A24: Safety | C24: =IF(OR('Inputs Segment 4'!$C$10='Safe- Conflicts'!$C$23,'Inputs Segment 4'!$C$10='Safe- Conflicts'!$C$24,'Inputs Segment 4'!$C$10='Safe- Conflicts'!$C$25),'Safe- Conflicts'!$C$22," ") | E24: {=INDEX(Data!$E$15:$E$234,MATCH(D24,IF($C$10=Data!A$15:A$234,Data!$D$15:$D$234),0))} -> #N/A
A25: Safety | C25: =IF(OR('Inputs Segment 4'!$C$10='Safe- Conflicts'!$D$23,'Inputs Segment 4'!$C$10='Safe- Conflicts'!$D$24,'Inputs Segment 4'!$C$10='Safe- Conflicts'!$D$25),'Safe- Conflicts'!$D$22," ") | E25: {=INDEX(Data!$E$15:$E$234,MATCH(D25,IF($C$10=Data!A$15:A$234,Data!$D$15:$D$234),0))} -> #N/A
A26: Safety | C26: =IF(OR('Inputs Segment 4'!$C$10='Safe- Conflicts'!$E$23),'Safe- Conflicts'!$E$22," ") | E26: {=INDEX(Data!$E$15:$E$234,MATCH(D26,IF($C$10=Data!A$15:A$234,Data!$D$15:$D$234),0))} -> #N/A
A27: Safety | C27: =IF(OR('Inputs Segment 4'!$C$10='Safe- Conflicts'!$F$23,'Inputs Segment 4'!$C$10='Safe- Conflicts'!$F$24,'Inputs Segment 4'!$C$10='Safe- Conflicts'!$F$25),'Safe- Conflicts'!$F$22," ") | E27: {=INDEX(Data!$E$15:$E$234,MATCH(D27,IF($C$10=Data!A$15:A$234,Data!$D$15:$D$234),0))} -> #N/A
A28: Safety | C28: =IF(OR('Inputs Segment 4'!$C$10='Safe- Conflicts'!$G$23,$C$10='Safe- Conflicts'!$G$24,$C$10='Safe- Conflicts'!$G$25),'Safe- Conflicts'!$G$22," ") | E28: {=INDEX(Data!$E$15:$E$234,MATCH(D28,IF($C$10=Data!A$15:A$234,Data!$D$15:$D$234),0))} -> #N/A
A29: Safety | B29: Direct | C29: =IF(OR('Inputs Segment 4'!$C$10=Direct!$B$20,'Inputs Segment 4'!$C$10=Direct!$B$21,'Inputs Segment 4'!$C$10=Direct!$B$22,'Inputs Segment 4'!$C$10=Direct!$B$23,C10=Direct!$B$24,'Inputs Segment 4'!C10=Direct!$B$25,'Inputs Segment 4'!$C$10=Direct!$B$26),Direct!$B$19," ") | E29: {=INDEX(Data!$E$15:$E$234,MATCH(D29,IF($C$10=Data!A$15:A$234,Data!$D$15:$D$234),0))} -> #N/A
A30: Safety | C30: =IF(OR('Inputs Segment 4'!$C$10=Direct!$C$20,'Inputs Segment 4'!$C$10=Direct!$C$21),Direct!$C$19," ") | E30: {=INDEX(Data!$E$15:$E$234,MATCH(D30,IF($C$10=Data!A$15:A$234,Data!$D$15:$D$234),0))} -> #N/A
A31: Safety | C31: =IF(OR('Inputs Segment 4'!$C$10=Direct!$D$20),Direct!$D$19," ") | E31: {=INDEX(Data!$E$15:$E$234,MATCH(D31,IF($C$10=Data!A$15:A$234,Data!$D$15:$D$234),0))} -> #N/A
A32: Safety | B32: Comfort | C32: =IF(OR('Inputs Segment 4'!$C$10=Comfort!$A$20,'Inputs Segment 4'!$C$10=Comfort!$A$21,'Inputs Segment 4'!$C$10=Comfort!$A$22,'Inputs Segment 4'!$C$10=Comfort!$A$23),Comfort!$A$19," ") | E32: {=INDEX(Data!$E$15:$E$234,MATCH(D32,IF($C$10=Data!A$15:A$234,Data!$D$15:$D$234),0))} -> #N/A
C33: =IF(OR('Inputs Segment 4'!$C$10=Comfort!$B$20,'Inputs Segment 4'!$C$10=Comfort!$B$21,'Inputs Segment 4'!$C$10=Comfort!$B$22,'Inputs Segment 4'!$C$10=Comfort!$B$23),Comfort!$B$19," ") | E33: {=INDEX(Data!$E$15:$E$234,MATCH(D33,IF($C$10=Data!A$15:A$234,Data!$D$15:$D$234),0))} -> #N/A
C34: =IF(OR('Inputs Segment 4'!$C$10=Comfort!$C$20,'Inputs Segment 4'!$C$10=Comfort!$C$21,'Inputs Segment 4'!$C$10=Comfort!$C$22,'Inputs Segment 4'!$C$10=Comfort!$C$23),Comfort!$C$19," ") | E34: {=INDEX(Data!$E$15:$E$234,MATCH(D34,IF($C$10=Data!A$15:A$234,Data!$D$15:$D$234),0))} -> #N/A
A35: Safety
A36: Comfort
A37: Comfort
A38: Comfort
A39: Comfort
A40: Comfort
A42: Directness
A43: Directness
...

Sheet Inputs Segment 5
B1: Inputs Segment 5
B2: Segment 5 Location:
B3: Weakest Score by Principle
B4: Safe - Infrastructure Type Suitable for Street Conditions | C4: {=IF(OR(C10="Shared Path",C10="Separated Cycle Path"),1,(MAX(IF(ISERROR(E13:E18),0,$E$13:$E$18))))} -> 0
B5: Safe - Appropriate Facility Dimensions | C5: {=MAX(IF(ISERROR(E$19:E$21),0,$E$19:$E$21))} -> 0
B6: Safe - Potential Conflicts Minimised | C6: {=MAX(IF(ISERROR(E$22:E$28),0,$E$22:$E$28))} -> 0
B7: Direct | C7: {=MAX(IF(ISERROR(E$29:E$31),0,$E$29:$E$31))} -> 0
B8: Comfort | C8: {=MAX(IF(ISERROR($E$32:$E$34),0,$E$32:$E$34))} -> 0
B10: Choose Segment Type:
A12: Principle | B12: Principle | C12: Criteria | D12: Standards Drop Down (Choose most appropriate option from drop down list) | E12: Score (automatically populates) | F12: Actual Values (e.g. 2544 AADT)
A13: Safety | B13: Safe - Infrastructure Type Suitable for Street Conditions | C13: =IF(OR($C$10='Safe-Infrastructure Type'!$A$25,'Inputs Segment 5'!$C$10='Safe-Infrastructure Type'!$A$26),'Safe-Infrastructure Type'!$A$24," ") | E13: {=INDEX(Data!$E$15:$E$234,MATCH(D13,IF($C$10=Data!A$15:A$234,Data!$D$15:$D$234),0))} -> #N/A
C14: =IF(OR($C$10='Safe-Infrastructure Type'!$B$25,'Inputs Segment 5'!$C$10='Safe-Infrastructure Type'!$B$26),'Safe-Infrastructure Type'!$B$24," ") | E14: {=INDEX(Data!$E$15:$E$234,MATCH(D14,IF($C$10=Data!A$15:A$234,Data!$D$15:$D$234),0))} -> #N/A
A15: Safety | C15: =IF(OR($C$10='Safe-Infrastructure Type'!$C$25,'Inputs Segment 5'!$C$10='Safe-Infrastructure Type'!C26),'Safe-Infrastructure Type'!$C$24," ") | E15: {=INDEX(Data!$E$15:$E$234,MATCH(D15,IF($C$10=Data!A$15:A$234,Data!$D$15:$D$234),0))} -> #N/A
C16: =IF(OR($C$10='Safe-Infrastructure Type'!D25,'Inputs Segment 5'!$C$10='Safe-Infrastructure Type'!D26),'Safe-Infrastructure Type'!D24," ") | E16: {=INDEX(Data!$E$15:$E$234,MATCH(D16,IF($C$10=Data!A$15:A$234,Data!$D$15:$D$234),0))} -> #N/A
C17: =IF(OR('Inputs Segment 5'!$C$10='Safe-Infrastructure Type'!$E$25,'Inputs Segment 5'!$C$10='Safe-Infrastructure Type'!$E$26,'Inputs Segment 5'!$C$10='Safe-Infrastructure Type'!$E$27),'Safe-Infrastructure Type'!$E$24," ") | E17: {=INDEX(Data!$E$15:$E$234,MATCH(D17,IF($C$10=Data!A$15:A$234,Data!$D$15:$D$234),0))} -> #N/A
A18: Safety | C18: =IF(OR($C$10='Safe-Infrastructure Type'!$F$25),'Safe-Infrastructure Type'!$F$24," ") | E18: {=INDEX(Data!$E$15:$E$234,MATCH(D18,IF($C$10=Data!A$15:A$234,Data!$D$15:$D$234),0))} -> #N/A
A19: Safety | B19: Safe - Appropriate Facility Dimensions | C19: =IF(OR('Inputs Segment 5'!$C$10='Safe- Facility Dimensions'!$A$14,'Inputs Segment 5'!$C$10='Safe- Facility Dimensions'!$A$15,'Inputs Segment 5'!$C$10='Safe- Facility Dimensions'!$A$16),'Safe- Facility Dimensions'!$A$13," ") | E19: {=INDEX(Data!$E$15:$E$234,MATCH(D19,IF($C$10=Data!A$15:A$234,Data!$D$15:$D$234),0))} -> #N/A
A20: Safety | C20: =IF(OR('Inputs Segment 5'!$C$10='Safe- Facility Dimensions'!$B$14,'Inputs Segment 5'!$C$10='Safe- Facility Dimensions'!$B$15),'Safe- Facility Dimensions'!$B$13," ") | E20: {=INDEX(Data!$E$15:$E$234,MATCH(D20,IF($C$10=Data!A$15:A$234,Data!$D$15:$D$234),0))} -> #N/A
A21: Safety | C21: =IF(OR('Inputs Segment 5'!$C$10='Safe- Facility Dimensions'!$C$14),'Safe- Facility Dimensions'!$C$13," ") | E21: {=INDEX(Data!$E$15:$E$234,MATCH(D21,IF($C$10=Data!A$15:A$234,Data!$D$15:$D$234),0))} -> #N/A
A22: Safety | B22: Safe - Potential Conflicts Minimised | C22: =IF(OR('Inputs Segment 5'!$C$10='Safe- Conflicts'!$A$23,'Inputs Segment 5'!$C$10='Safe- Conflicts'!$A$24,'Inputs Segment 5'!$C$10='Safe- Conflicts'!$A$25),'Safe- Conflicts'!$A$22," ") | E22: {=INDEX(Data!$E$15:$E$234,MATCH(D22,IF($C$10=Data!A$15:A$234,Data!$D$15:$D$234),0))} -> #N/A
A23: Safety | C23: =IF(OR('Inputs Segment 5'!$C$10='Safe- Conflicts'!$B$23,'Inputs Segment 5'!$C$10='Safe- Conflicts'!$B$24,'Inputs Segment 5'!$C$10='Safe- Conflicts'!$B$25),'Safe- Conflicts'!$B$22," ") | E23: {=INDEX(Data!$E$15:$E$234,MATCH(D23,IF($C$10=Data!A$15:A$234,Data!$D$15:$D$234),0))} -> #N/A
A24: Safety | C24: =IF(OR('Inputs Segment 5'!$C$10='Safe- Conflicts'!$C$23,'Inputs Segment 5'!$C$10='Safe- Conflicts'!$C$24,'Inputs Segment 5'!$C$10='Safe- Conflicts'!$C$25),'Safe- Conflicts'!$C$22," ") | E24: {=INDEX(Data!$E$15:$E$234,MATCH(D24,IF($C$10=Data!A$15:A$234,Data!$D$15:$D$234),0))} -> #N/A
A25: Safety | C25: =IF(OR('Inputs Segment 5'!$C$10='Safe- Conflicts'!$D$23,'Inputs Segment 5'!$C$10='Safe- Conflicts'!$D$24,'Inputs Segment 5'!$C$10='Safe- Conflicts'!$D$25),'Safe- Conflicts'!$D$22," ") | E25: {=INDEX(Data!$E$15:$E$234,MATCH(D25,IF($C$10=Data!A$15:A$234,Data!$D$15:$D$234),0))} -> #N/A
A26: Safety | C26: =IF(OR('Inputs Segment 5'!$C$10='Safe- Conflicts'!$E$23),'Safe- Conflicts'!$E$22," ") | E26: {=INDEX(Data!$E$15:$E$234,MATCH(D26,IF($C$10=Data!A$15:A$234,Data!$D$15:$D$234),0))} -> #N/A
A27: Safety | C27: =IF(OR('Inputs Segment 5'!$C$10='Safe- Conflicts'!$F$23,'Inputs Segment 5'!$C$10='Safe- Conflicts'!$F$24,'Inputs Segment 5'!$C$10='Safe- Conflicts'!$F$25),'Safe- Conflicts'!$F$22," ") | E27: {=INDEX(Data!$E$15:$E$234,MATCH(D27,IF($C$10=Data!A$15:A$234,Data!$D$15:$D$234),0))} -> #N/A
A28: Safety | C28: =IF(OR('Inputs Segment 5'!$C$10='Safe- Conflicts'!$G$23,$C$10='Safe- Conflicts'!$G$24,$C$10='Safe- Conflicts'!$G$25),'Safe- Conflicts'!$G$22," ") | E28: {=INDEX(Data!$E$15:$E$234,MATCH(D28,IF($C$10=Data!A$15:A$234,Data!$D$15:$D$234),0))} -> #N/A
A29: Safety | B29: Direct | C29: =IF(OR('Inputs Segment 5'!$C$10=Direct!$B$20,'Inputs Segment 5'!$C$10=Direct!$B$21,'Inputs Segment 5'!$C$10=Direct!$B$22,'Inputs Segment 5'!$C$10=Direct!$B$23,C10=Direct!$B$24,'Inputs Segment 5'!C10=Direct!$B$25,'Inputs Segment 5'!$C$10=Direct!$B$26),Direct!$B$19," ") | E29: {=INDEX(Data!$E$15:$E$234,MATCH(D29,IF($C$10=Data!A$15:A$234,Data!$D$15:$D$234),0))} -> #N/A
A30: Safety | C30: =IF(OR('Inputs Segment 5'!$C$10=Direct!$C$20,'Inputs Segment 5'!$C$10=Direct!$C$21),Direct!$C$19," ") | E30: {=INDEX(Data!$E$15:$E$234,MATCH(D30,IF($C$10=Data!A$15:A$234,Data!$D$15:$D$234),0))} -> #N/A
A31: Safety | C31: =IF(OR('Inputs Segment 5'!$C$10=Direct!$D$20),Direct!$D$19," ") | E31: {=INDEX(Data!$E$15:$E$234,MATCH(D31,IF($C$10=Data!A$15:A$234,Data!$D$15:$D$234),0))} -> #N/A
A32: Safety | B32: Comfort | C32: =IF(OR('Inputs Segment 5'!$C$10=Comfort!$A$20,'Inputs Segment 5'!$C$10=Comfort!$A$21,'Inputs Segment 5'!$C$10=Comfort!$A$22,'Inputs Segment 5'!$C$10=Comfort!$A$23),Comfort!$A$19," ") | E32: {=INDEX(Data!$E$15:$E$234,MATCH(D32,IF($C$10=Data!A$15:A$234,Data!$D$15:$D$234),0))} -> #N/A
C33: =IF(OR('Inputs Segment 5'!$C$10=Comfort!$B$20,'Inputs Segment 5'!$C$10=Comfort!$B$21,'Inputs Segment 5'!$C$10=Comfort!$B$22,'Inputs Segment 5'!$C$10=Comfort!$B$23),Comfort!$B$19," ") | E33: {=INDEX(Data!$E$15:$E$234,MATCH(D33,IF($C$10=Data!A$15:A$234,Data!$D$15:$D$234),0))} -> #N/A
C34: =IF(OR('Inputs Segment 5'!$C$10=Comfort!$C$20,'Inputs Segment 5'!$C$10=Comfort!$C$21,'Inputs Segment 5'!$C$10=Comfort!$C$22,'Inputs Segment 5'!$C$10=Comfort!$C$23),Comfort!$C$19," ") | E34: {=INDEX(Data!$E$15:$E$234,MATCH(D34,IF($C$10=Data!A$15:A$234,Data!$D$15:$D$234),0))} -> #N/A
A35: Safety
A36: Comfort
A37: Comfort
A38: Comfort
A39: Comfort
A40: Comfort
A42: Directness
A43: Directness
...

Sheet Inputs Segment 6
B1: Inputs Segment 6
B2: Segment 6 Location:
B3: Weakest Score by Principle
B4: Safe - Infrastructure Type Suitable for Street Conditions | C4: {=IF(OR(C10="Shared Path",C10="Separated Cycle Path"),1,(MAX(IF(ISERROR(E13:E18),0,$E$13:$E$18))))} -> 0
B5: Safe - Appropriate Facility Dimensions | C5: {=MAX(IF(ISERROR(E$19:E$21),0,$E$19:$E$21))} -> 0
B6: Safe - Potential Conflicts Minimised | C6: {=MAX(IF(ISERROR(E$22:E$28),0,$E$22:$E$28))} -> 0
B7: Direct | C7: {=MAX(IF(ISERROR(E$29:E$31),0,$E$29:$E$31))} -> 0
B8: Comfort | C8: {=MAX(IF(ISERROR($E$32:$E$34),0,$E$32:$E$34))} -> 0
B10: Choose Segment Type:
A12: Principle | B12: Principle | C12: Criteria | D12: Standards Drop Down (Choose most appropriate option from drop down list) | E12: Score (automatically populates) | F12: Actual Values (e.g. 2544 AADT)
A13: Safety | B13: Safe - Infrastructure Type Suitable for Street Conditions | C13: =IF(OR($C$10='Safe-Infrastructure Type'!$A$25,'Inputs Segment 6'!$C$10='Safe-Infrastructure Type'!$A$26),'Safe-Infrastructure Type'!$A$24," ") | E13: {=INDEX(Data!$E$15:$E$234,MATCH(D13,IF($C$10=Data!A$15:A$234,Data!$D$15:$D$234),0))} -> #N/A
C14: =IF(OR($C$10='Safe-Infrastructure Type'!$B$25,'Inputs Segment 6'!$C$10='Safe-Infrastructure Type'!$B$26),'Safe-Infrastructure Type'!$B$24," ") | E14: {=INDEX(Data!$E$15:$E$234,MATCH(D14,IF($C$10=Data!A$15:A$234,Data!$D$15:$D$234),0))} -> #N/A
A15: Safety | C15: =IF(OR($C$10='Safe-Infrastructure Type'!$C$25,'Inputs Segment 6'!$C$10='Safe-Infrastructure Type'!C26),'Safe-Infrastructure Type'!$C$24," ") | E15: {=INDEX(Data!$E$15:$E$234,MATCH(D15,IF($C$10=Data!A$15:A$234,Data!$D$15:$D$234),0))} -> #N/A
C16: =IF(OR($C$10='Safe-Infrastructure Type'!D25,'Inputs Segment 6'!$C$10='Safe-Infrastructure Type'!D26),'Safe-Infrastructure Type'!D24," ") | E16: {=INDEX(Data!$E$15:$E$234,MATCH(D16,IF($C$10=Data!A$15:A$234,Data!$D$15:$D$234),0))} -> #N/A
C17: =IF(OR('Inputs Segment 6'!$C$10='Safe-Infrastructure Type'!$E$25,'Inputs Segment 6'!$C$10='Safe-Infrastructure Type'!$E$26,'Inputs Segment 6'!$C$10='Safe-Infrastructure Type'!$E$27),'Safe-Infrastructure Type'!$E$24," ") | E17: {=INDEX(Data!$E$15:$E$234,MATCH(D17,IF($C$10=Data!A$15:A$234,Data!$D$15:$D$234),0))} -> #N/A
A18: Safety | C18: =IF(OR($C$10='Safe-Infrastructure Type'!$F$25),'Safe-Infrastructure Type'!$F$24," ") | E18: {=INDEX(Data!$E$15:$E$234,MATCH(D18,IF($C$10=Data!A$15:A$234,Data!$D$15:$D$234),0))} -> #N/A
A19: Safety | B19: Safe - Appropriate Facility Dimensions | C19: =IF(OR('Inputs Segment 6'!$C$10='Safe- Facility Dimensions'!$A$14,'Inputs Segment 6'!$C$10='Safe- Facility Dimensions'!$A$15,'Inputs Segment 6'!$C$10='Safe- Facility Dimensions'!$A$16),'Safe- Facility Dimensions'!$A$13," ") | E19: {=INDEX(Data!$E$15:$E$234,MATCH(D19,IF($C$10=Data!A$15:A$234,Data!$D$15:$D$234),0))} -> #N/A
A20: Safety | C20: =IF(OR('Inputs Segment 6'!$C$10='Safe- Facility Dimensions'!$B$14,'Inputs Segment 6'!$C$10='Safe- Facility Dimensions'!$B$15),'Safe- Facility Dimensions'!$B$13," ") | E20: {=INDEX(Data!$E$15:$E$234,MATCH(D20,IF($C$10=Data!A$15:A$234,Data!$D$15:$D$234),0))} -> #N/A
A21: Safety | C21: =IF(OR('Inputs Segment 6'!$C$10='Safe- Facility Dimensions'!$C$14),'Safe- Facility Dimensions'!$C$13," ") | E21: {=INDEX(Data!$E$15:$E$234,MATCH(D21,IF($C$10=Data!A$15:A$234,Data!$D$15:$D$234),0))} -> #N/A
A22: Safety | B22: Safe - Potential Conflicts Minimised | C22: =IF(OR('Inputs Segment 6'!$C$10='Safe- Conflicts'!$A$23,'Inputs Segment 6'!$C$10='Safe- Conflicts'!$A$24,'Inputs Segment 6'!$C$10='Safe- Conflicts'!$A$25),'Safe- Conflicts'!$A$22," ") | E22: {=INDEX(Data!$E$15:$E$234,MATCH(D22,IF($C$10=Data!A$15:A$234,Data!$D$15:$D$234),0))} -> #N/A
A23: Safety | C23: =IF(OR('Inputs Segment 6'!$C$10='Safe- Conflicts'!$B$23,'Inputs Segment 6'!$C$10='Safe- Conflicts'!$B$24,'Inputs Segment 6'!$C$10='Safe- Conflicts'!$B$25),'Safe- Conflicts'!$B$22," ") | E23: {=INDEX(Data!$E$15:$E$234,MATCH(D23,IF($C$10=Data!A$15:A$234,Data!$D$15:$D$234),0))} -> #N/A
A24: Safety | C24: =IF(OR('Inputs Segment 6'!$C$10='Safe- Conflicts'!$C$23,'Inputs Segment 6'!$C$10='Safe- Conflicts'!$C$24,'Inputs Segment 6'!$C$10='Safe- Conflicts'!$C$25),'Safe- Conflicts'!$C$22," ") | E24: {=INDEX(Data!$E$15:$E$234,MATCH(D24,IF($C$10=Data!A$15:A$234,Data!$D$15:$D$234),0))} -> #N/A
A25: Safety | C25: =IF(OR('Inputs Segment 6'!$C$10='Safe- Conflicts'!$D$23,'Inputs Segment 6'!$C$10='Safe- Conflicts'!$D$24,'Inputs Segment 6'!$C$10='Safe- Conflicts'!$D$25),'Safe- Conflicts'!$D$22," ") | E25: {=INDEX(Data!$E$15:$E$234,MATCH(D25,IF($C$10=Data!A$15:A$234,Data!$D$15:$D$234),0))} -> #N/A
A26: Safety | C26: =IF(OR('Inputs Segment 6'!$C$10='Safe- Conflicts'!$E$23),'Safe- Conflicts'!$E$22," ") | E26: {=INDEX(Data!$E$15:$E$234,MATCH(D26,IF($C$10=Data!A$15:A$234,Data!$D$15:$D$234),0))} -> #N/A
A27: Safety | C27: =IF(OR('Inputs Segment 6'!$C$10='Safe- Conflicts'!$F$23,'Inputs Segment 6'!$C$10='Safe- Conflicts'!$F$24,'Inputs Segment 6'!$C$10='Safe- Conflicts'!$F$25),'Safe- Conflicts'!$F$22," ") | E27: {=INDEX(Data!$E$15:$E$234,MATCH(D27,IF($C$10=Data!A$15:A$234,Data!$D$15:$D$234),0))} -> #N/A
